BEGIN:VCALENDAR
VERSION:2.0
PRODID:-//Rewind 97.7 - ECPv6.15.17.1//NONSGML v1.0//EN
CALSCALE:GREGORIAN
METHOD:PUBLISH
X-WR-CALNAME:Rewind 97.7
X-ORIGINAL-URL:https://rewind977.com
X-WR-CALDESC:Events for Rewind 97.7
REFRESH-INTERVAL;VALUE=DURATION:PT1H
X-Robots-Tag:noindex
X-PUBLISHED-TTL:PT1H
BEGIN:VTIMEZONE
TZID:UTC
BEGIN:STANDARD
TZOFFSETFROM:+0000
TZOFFSETTO:+0000
TZNAME:UTC
DTSTART:20250101T000000
END:STANDARD
END:VTIMEZONE
BEGIN:VEVENT
DTSTART;TZID=UTC:20260306T090000
DTEND;TZID=UTC:20260306T120000
DTSTAMP:20260419T201743
CREATED:20260306T190949Z
LAST-MODIFIED:20260306T190949Z
UID:16285-1772787600-1772798400@rewind977.com
SUMMARY:Volunteer Wednesday
DESCRIPTION:9:00am – 12:00pm  Volunteer Wednesday Potawatomi State Park  Multiple volunteer opportunities available. Meet at the park’s maintenance shed (first driveway after the park entrance). State park vehicle sticker required
URL:https://rewind977.com/event/volunteer-wednesday-2/
LOCATION:Potawatomi State Park
CATEGORIES:Local Activities
END:VEVENT
BEGIN:VEVENT
DTSTART;TZID=UTC:20260306T190000
DTEND;TZID=UTC:20260306T223000
DTSTAMP:20260419T201743
CREATED:20260227T211324Z
LAST-MODIFIED:20260227T211324Z
UID:16238-1772823600-1772836200@rewind977.com
SUMMARY:Live Music
DESCRIPTION:Brygga/Stone Harbor 7P-10:30P DB Fusion Duo
URL:https://rewind977.com/event/live-music-2/
CATEGORIES:Local Activities
END:VEVENT
END:VCALENDAR