BEGIN:VCALENDAR
VERSION:2.0
PRODID:-//Rewind 97.7 - ECPv6.15.17.1//NONSGML v1.0//EN
CALSCALE:GREGORIAN
METHOD:PUBLISH
X-ORIGINAL-URL:https://rewind977.com
X-WR-CALDESC:Events for Rewind 97.7
REFRESH-INTERVAL;VALUE=DURATION:PT1H
X-Robots-Tag:noindex
X-PUBLISHED-TTL:PT1H
BEGIN:VTIMEZONE
TZID:UTC
BEGIN:STANDARD
TZOFFSETFROM:+0000
TZOFFSETTO:+0000
TZNAME:UTC
DTSTART:20250101T000000
END:STANDARD
END:VTIMEZONE
BEGIN:VEVENT
DTSTART;TZID=UTC:20260307T100000
DTEND;TZID=UTC:20260307T140000
DTSTAMP:20260419T201925
CREATED:20260227T211426Z
LAST-MODIFIED:20260227T211426Z
UID:16240-1772877600-1772892000@rewind977.com
SUMMARY:Maple Syrup Demo
DESCRIPTION:10:00am – 2:00pm Maple Syrup Demo Whitefish Dunes State Park A historic maple syrup cooking demo at the Native American Pole Lodge (Ciporoke) down the Red Trail. State park vehicle sticker required for entry
URL:https://rewind977.com/event/maple-syrup-demo/
LOCATION:Whitefish Dunes State Park
CATEGORIES:Local Activities
END:VEVENT
BEGIN:VEVENT
DTSTART;TZID=UTC:20260307T190000
DTEND;TZID=UTC:20260307T223000
DTSTAMP:20260419T201925
CREATED:20260227T211534Z
LAST-MODIFIED:20260227T211534Z
UID:16242-1772910000-1772922600@rewind977.com
SUMMARY:Live Music
DESCRIPTION:Brygga/Stone Harbor 7P-10:30P James Duo
URL:https://rewind977.com/event/live-music-3/
CATEGORIES:Local Activities
END:VEVENT
BEGIN:VEVENT
DTSTART;TZID=UTC:20260307T190000
DTEND;TZID=UTC:20260307T223000
DTSTAMP:20260419T201925
CREATED:20260306T190642Z
LAST-MODIFIED:20260306T190642Z
UID:16281-1772910000-1772922600@rewind977.com
SUMMARY:Live Music
DESCRIPTION:Live Music at Brygga/Stone Harbor 7P-10:30P James Duo
URL:https://rewind977.com/event/live-music-18/
LOCATION:Brygga Plates & Pours @ Stone Harbor in Sturgeon Bay
CATEGORIES:Local Activities
END:VEVENT
END:VCALENDAR