BEGIN:VCALENDAR
VERSION:2.0
PRODID:-//Rewind 97.7 - ECPv6.15.17.1//NONSGML v1.0//EN
CALSCALE:GREGORIAN
METHOD:PUBLISH
X-WR-CALNAME:Rewind 97.7
X-ORIGINAL-URL:https://rewind977.com
X-WR-CALDESC:Events for Rewind 97.7
REFRESH-INTERVAL;VALUE=DURATION:PT1H
X-Robots-Tag:noindex
X-PUBLISHED-TTL:PT1H
BEGIN:VTIMEZONE
TZID:UTC
BEGIN:STANDARD
TZOFFSETFROM:+0000
TZOFFSETTO:+0000
TZNAME:UTC
DTSTART:20250101T000000
END:STANDARD
END:VTIMEZONE
BEGIN:VEVENT
DTSTART;TZID=UTC:20260310T080000
DTEND;TZID=UTC:20260310T170000
DTSTAMP:20260419T201759
CREATED:20260227T211640Z
LAST-MODIFIED:20260227T211640Z
UID:16244-1773129600-1773162000@rewind977.com
SUMMARY:Spring Job Fair
DESCRIPTION:2pm – 5:30pm We Are Hope Inc. – The EmployAbility Hub\, Cherry Point Mall\, Sturgeon Bay. Connect directly with employers\, learn about open positions\, and discover programs and services to help you take the next step toward a rewarding new career. We Are Hope Inc will also have informational booths with employment resources on hand. Find your next career opportunities at their Spring Job Fair on March 10th! Learn more on Facebook or we are hope inc dot org.
URL:https://rewind977.com/event/spring-job-fair/
CATEGORIES:Local Activities
END:VEVENT
BEGIN:VEVENT
DTSTART;TZID=UTC:20260310T180000
DTEND;TZID=UTC:20260310T200000
DTSTAMP:20260419T201759
CREATED:20260227T210459Z
LAST-MODIFIED:20260227T210459Z
UID:16223-1773165600-1773172800@rewind977.com
SUMMARY:ATOMIC BINGO TUESDAYS
DESCRIPTION:ATOMIC BINGO TUESDAYS Brygga Plates and Pours/Stone Harbor 6-8PM
URL:https://rewind977.com/event/atomic-bingo-tuesdays-7/
LOCATION:Brygga Plates & Pours @ Stone Harbor in Sturgeon Bay
CATEGORIES:Local Activities
END:VEVENT
END:VCALENDAR