BEGIN:VCALENDAR
VERSION:2.0
PRODID:-//Rewind 97.7 - ECPv6.15.17.1//NONSGML v1.0//EN
CALSCALE:GREGORIAN
METHOD:PUBLISH
X-ORIGINAL-URL:https://rewind977.com
X-WR-CALDESC:Events for Rewind 97.7
REFRESH-INTERVAL;VALUE=DURATION:PT1H
X-Robots-Tag:noindex
X-PUBLISHED-TTL:PT1H
BEGIN:VTIMEZONE
TZID:UTC
BEGIN:STANDARD
TZOFFSETFROM:+0000
TZOFFSETTO:+0000
TZNAME:UTC
DTSTART:20250101T000000
END:STANDARD
END:VTIMEZONE
BEGIN:VEVENT
DTSTART;TZID=UTC:20260313T190000
DTEND;TZID=UTC:20260313T223000
DTSTAMP:20260419T204316
CREATED:20260227T211750Z
LAST-MODIFIED:20260227T211750Z
UID:16246-1773428400-1773441000@rewind977.com
SUMMARY:Live Music
DESCRIPTION:Brygga/Stone Harbor 7P-10:30P Benny
URL:https://rewind977.com/event/live-music-4/
CATEGORIES:Local Activities
END:VEVENT
END:VCALENDAR