BEGIN:VCALENDAR
VERSION:2.0
PRODID:-//Rewind 97.7 - ECPv6.15.17.1//NONSGML v1.0//EN
CALSCALE:GREGORIAN
METHOD:PUBLISH
X-WR-CALNAME:Rewind 97.7
X-ORIGINAL-URL:https://rewind977.com
X-WR-CALDESC:Events for Rewind 97.7
REFRESH-INTERVAL;VALUE=DURATION:PT1H
X-Robots-Tag:noindex
X-PUBLISHED-TTL:PT1H
BEGIN:VTIMEZONE
TZID:UTC
BEGIN:STANDARD
TZOFFSETFROM:+0000
TZOFFSETTO:+0000
TZNAME:UTC
DTSTART:20250101T000000
END:STANDARD
END:VTIMEZONE
BEGIN:VEVENT
DTSTART;VALUE=DATE:20260314
DTEND;VALUE=DATE:20260315
DTSTAMP:20260419T201759
CREATED:20260306T191533Z
LAST-MODIFIED:20260306T191533Z
UID:16289-1773446400-1773532799@rewind977.com
SUMMARY:Winter Market
DESCRIPTION:The winter duo is back in Baileys Harbor with their winter market Saturday and Yoga Sunday  SATURDAY: Shop local\, artisanal foods\, one-of-a-kind gifts\, and seasonal treasures with Baileys Harbor Farmers Market at 2604 Grove Road in Baileys. 10 am–2 pm.  SUNDAY: Relax and reset with a yoga session by the fire at Door County Brewing Company Free and open to all skill levels – donations encouraged. Bring a mat and water to hydrate. 9–10 am. Yoga is every single Sunday of the month!
URL:https://rewind977.com/event/winter-market-4/
CATEGORIES:Local Activities
END:VEVENT
BEGIN:VEVENT
DTSTART;VALUE=DATE:20260314
DTEND;VALUE=DATE:20260315
DTSTAMP:20260419T201759
CREATED:20260306T191636Z
LAST-MODIFIED:20260306T191636Z
UID:16294-1773446400-1773532799@rewind977.com
SUMMARY:St. Patrick’s Day Parade
DESCRIPTION:Get ready to paint the town green as Sturgeon Bay hosts its annual St. Patrick’s Day Parade on Saturday\, March 14\, sponsored by Kitty O’Reillys Irish Pub. Beginning at 11 am\, the parade will start at Sawyer Park via Oak Street\, travel down Madison Avenue\, cross the Michigan Street bridge\, proceed down Third Avenue\, and finish at Jefferson Street. Come early to stake out your spot and enjoy live entertainment offered at venues throughout the city.
URL:https://rewind977.com/event/st-patricks-day-parade/
LOCATION:Sturgeon Bay
CATEGORIES:Local Activities
END:VEVENT
BEGIN:VEVENT
DTSTART;TZID=UTC:20260314T093000
DTEND;TZID=UTC:20260314T120000
DTSTAMP:20260419T201759
CREATED:20260312T185711Z
LAST-MODIFIED:20260312T185711Z
UID:16322-1773480600-1773489600@rewind977.com
SUMMARY:Library Book Sale
DESCRIPTION:9:30am – 12:00pm Sturgeon Bay Library 107 S 4th Ave Pick from thousands of books\, audiobooks & movies. Proceeds benefit the library.
URL:https://rewind977.com/event/library-book-sale/
CATEGORIES:Local Activities
END:VEVENT
BEGIN:VEVENT
DTSTART;TZID=UTC:20260314T190000
DTEND;TZID=UTC:20260314T223000
DTSTAMP:20260419T201759
CREATED:20260227T211903Z
LAST-MODIFIED:20260227T211903Z
UID:16248-1773514800-1773527400@rewind977.com
SUMMARY:Live Music
DESCRIPTION:at Brygga/Stone Harbor 7P-10:30P St Pattys Party with specials all day/live music at night
URL:https://rewind977.com/event/live-music-17/
LOCATION:Brygga Plates & Pours @ Stone Harbor in Sturgeon Bay
CATEGORIES:Local Activities
END:VEVENT
END:VCALENDAR