BEGIN:VCALENDAR
VERSION:2.0
PRODID:-//Rewind 97.7 - ECPv6.15.17.1//NONSGML v1.0//EN
CALSCALE:GREGORIAN
METHOD:PUBLISH
X-ORIGINAL-URL:https://rewind977.com
X-WR-CALDESC:Events for Rewind 97.7
REFRESH-INTERVAL;VALUE=DURATION:PT1H
X-Robots-Tag:noindex
X-PUBLISHED-TTL:PT1H
BEGIN:VTIMEZONE
TZID:UTC
BEGIN:STANDARD
TZOFFSETFROM:+0000
TZOFFSETTO:+0000
TZNAME:UTC
DTSTART:20250101T000000
END:STANDARD
END:VTIMEZONE
BEGIN:VEVENT
DTSTART;TZID=UTC:20260404T070000
DTEND;TZID=UTC:20260523T203000
DTSTAMP:20260419T201430
CREATED:20260325T233723Z
LAST-MODIFIED:20260325T233723Z
UID:16449-1775286000-1779568200@rewind977.com
SUMMARY:52nd Annual Salon of Door County High School Art
DESCRIPTION:The Miller Art Museum in downtown Sturgeon Bay presents the 52nd Annual Salon of Door County High School Art\, a vibrant showcase celebrating the creativity of talented young artists across the peninsula. \nThis long-running exhibition features more than 100 works in a variety of media from students representing Gibraltar\, Sevastopol\, Southern Door\, Sturgeon Bay\, and Washington Island High Schools. \nThe exhibit opens to the public on April 4\, 2026\, with a special reception honoring the artists on April 6 from 7:00–8:30 PM at the museum\, located inside the Door County Library. \nAdmission to both the exhibition and reception is free and open to the public.
URL:https://rewind977.com/event/52nd-annual-salon-of-door-county-high-school-art/
CATEGORIES:Local Activities
END:VEVENT
BEGIN:VEVENT
DTSTART;VALUE=DATE:20260503
DTEND;VALUE=DATE:20261107
DTSTAMP:20260419T201430
CREATED:20260409T192822Z
LAST-MODIFIED:20260417T162016Z
UID:16480-1777766400-1794009599@rewind977.com
SUMMARY:The Clearing
DESCRIPTION:Summer week-long classes at The Clearing in Ellison Bay start the week of May 3 and are available through November 6. People can still register (with many open\, from writing and weaving to nature studies and pastels…plenty of class options) online or by calling. Visit TheClearing.org.
URL:https://rewind977.com/event/the-clearing/
CATEGORIES:Local Activities
END:VEVENT
BEGIN:VEVENT
DTSTART;VALUE=DATE:20260521
DTEND;VALUE=DATE:20260525
DTSTAMP:20260419T201430
CREATED:20260417T172028Z
LAST-MODIFIED:20260417T172042Z
UID:16532-1779321600-1779667199@rewind977.com
SUMMARY:24th Annual Door County Festival of Nature
DESCRIPTION:24th Annual Door County Festival of Nature ** The Ridges Sanctuary in Baileys Harbor and throughout Door County. Together with their partners in conservation\, they’ll continue to celebrate the natural beauty of the Door Peninsula. This year’s festival theme is Convergence: the coming together of ideas\, communities\, and spaces\, moving our scientific community forward towards progress. With field trips\, lectures\, events and experiences\, they want you to be inspired to help ensure that these wild places are protected for future generations. Register today and find all the Festival of Nature details at doorcountyfestivalofnature.org.
URL:https://rewind977.com/event/24th-annual-door-county-festival-of-nature/
CATEGORIES:Local Activities
END:VEVENT
END:VCALENDAR