BEGIN:VCALENDAR
VERSION:2.0
PRODID:-//Rewind 97.7 - ECPv6.15.17.1//NONSGML v1.0//EN
CALSCALE:GREGORIAN
METHOD:PUBLISH
X-WR-CALNAME:Rewind 97.7
X-ORIGINAL-URL:https://rewind977.com
X-WR-CALDESC:Events for Rewind 97.7
REFRESH-INTERVAL;VALUE=DURATION:PT1H
X-Robots-Tag:noindex
X-PUBLISHED-TTL:PT1H
BEGIN:VTIMEZONE
TZID:UTC
BEGIN:STANDARD
TZOFFSETFROM:+0000
TZOFFSETTO:+0000
TZNAME:UTC
DTSTART:20250101T000000
END:STANDARD
END:VTIMEZONE
BEGIN:VEVENT
DTSTART;VALUE=DATE:20260503
DTEND;VALUE=DATE:20261107
DTSTAMP:20260420T020715
CREATED:20260409T192822Z
LAST-MODIFIED:20260417T162016Z
UID:16480-1777766400-1794009599@rewind977.com
SUMMARY:The Clearing
DESCRIPTION:Summer week-long classes at The Clearing in Ellison Bay start the week of May 3 and are available through November 6. People can still register (with many open\, from writing and weaving to nature studies and pastels…plenty of class options) online or by calling. Visit TheClearing.org.
URL:https://rewind977.com/event/the-clearing/
CATEGORIES:Local Activities
END:VEVENT
BEGIN:VEVENT
DTSTART;VALUE=DATE:20260919
DTEND;VALUE=DATE:20260920
DTSTAMP:20260420T020715
CREATED:20260417T162313Z
LAST-MODIFIED:20260417T162313Z
UID:16520-1789776000-1789862399@rewind977.com
SUMMARY:Fall Challenge
DESCRIPTION:Experience the beauty of Door County from your bicycle. The Peninsula Century rides guide you along the county’s most rider-friendly roads and past its best sights. Choose from four distances at either the Spring Classic on June 20th or the Fall Challenge on September 19th. Each ride features fully stocked rest stops with biking snacks and specialty items from local restaurants and orchards. At the finish line\, riders are treated to a meal from Thyme Catering and a local craft beverage. See you on the roads!
URL:https://rewind977.com/event/fall-challenge/
CATEGORIES:Local Activities
END:VEVENT
END:VCALENDAR