BEGIN:VCALENDAR
VERSION:2.0
PRODID:-//Rewind 97.7 - ECPv6.15.17.1//NONSGML v1.0//EN
CALSCALE:GREGORIAN
METHOD:PUBLISH
X-ORIGINAL-URL:https://rewind977.com
X-WR-CALDESC:Events for Rewind 97.7
REFRESH-INTERVAL;VALUE=DURATION:PT1H
X-Robots-Tag:noindex
X-PUBLISHED-TTL:PT1H
BEGIN:VTIMEZONE
TZID:UTC
BEGIN:STANDARD
TZOFFSETFROM:+0000
TZOFFSETTO:+0000
TZNAME:UTC
DTSTART:20250101T000000
END:STANDARD
END:VTIMEZONE
BEGIN:VEVENT
DTSTART;TZID=UTC:20260404T070000
DTEND;TZID=UTC:20260523T203000
DTSTAMP:20260419T135407
CREATED:20260325T233723Z
LAST-MODIFIED:20260325T233723Z
UID:16449-1775286000-1779568200@rewind977.com
SUMMARY:52nd Annual Salon of Door County High School Art
DESCRIPTION:The Miller Art Museum in downtown Sturgeon Bay presents the 52nd Annual Salon of Door County High School Art\, a vibrant showcase celebrating the creativity of talented young artists across the peninsula. \nThis long-running exhibition features more than 100 works in a variety of media from students representing Gibraltar\, Sevastopol\, Southern Door\, Sturgeon Bay\, and Washington Island High Schools. \nThe exhibit opens to the public on April 4\, 2026\, with a special reception honoring the artists on April 6 from 7:00–8:30 PM at the museum\, located inside the Door County Library. \nAdmission to both the exhibition and reception is free and open to the public.
URL:https://rewind977.com/event/52nd-annual-salon-of-door-county-high-school-art/
CATEGORIES:Local Activities
END:VEVENT
BEGIN:VEVENT
DTSTART;VALUE=DATE:20260421
DTEND;VALUE=DATE:20260422
DTSTAMP:20260419T135407
CREATED:20260320T003242Z
LAST-MODIFIED:20260320T003242Z
UID:16412-1776729600-1776815999@rewind977.com
SUMMARY:24th Annual Golden Heart Volunteer Awards Celebration
DESCRIPTION:Celebrate the 24th Annual Golden Heart Volunteer Awards Celebration on Tuesday\, April 21\, at Stone Harbor Resort. This annual feel-good event recognizes and celebrates Door County’s greatest volunteers. As you know\, volunteers are critical to the success of our unique and special community\, and these remarkable individuals deserve recognition. fm 106.9 the Lodge and Rewind 97.7 are happy to support and sponsor this event and recognition.
URL:https://rewind977.com/event/24th-annual-golden-heart-volunteer-awards-celebration/
LOCATION:Stone Harbor Resort
CATEGORIES:Local Activities
END:VEVENT
BEGIN:VEVENT
DTSTART;TZID=UTC:20260421T180000
DTEND;TZID=UTC:20260421T200000
DTSTAMP:20260419T135407
CREATED:20260319T234813Z
LAST-MODIFIED:20260319T234813Z
UID:16395-1776794400-1776801600@rewind977.com
SUMMARY:ATOMIC BINGO TUESDAYS
DESCRIPTION:ATOMIC BINGO TUESDAYS Brygga Plates and Pours/Stone Harbor 6-8PM
URL:https://rewind977.com/event/atomic-bingo-tuesdays-3/
LOCATION:Brygga Plates & Pours @ Stone Harbor in Sturgeon Bay
CATEGORIES:Local Activities
END:VEVENT
BEGIN:VEVENT
DTSTART;TZID=UTC:20260422T170000
DTEND;TZID=UTC:20260422T170000
DTSTAMP:20260419T135407
CREATED:20260319T235018Z
LAST-MODIFIED:20260319T235018Z
UID:16403-1776877200-1776877200@rewind977.com
SUMMARY:Game Night
DESCRIPTION:Starts at 5pm Husby’s\, on the Hill\, Sister Bay. Husby’s will provide decks of cards\, cribbage boards\, Yahtzee\, Shut the Box or bring your own! $1 off all drinks too! Game on!
URL:https://rewind977.com/event/game-night-6/
LOCATION:Husby’s\, on the Hill\, Sister Bay
CATEGORIES:Local Activities
END:VEVENT
BEGIN:VEVENT
DTSTART;VALUE=DATE:20260423
DTEND;VALUE=DATE:20260424
DTSTAMP:20260419T135407
CREATED:20260409T193130Z
LAST-MODIFIED:20260409T193130Z
UID:16484-1776902400-1776988799@rewind977.com
SUMMARY:Sushi Thursday
DESCRIPTION:Only a few weeks left! Join friends at Harbor Fish Market and Grille on Thursday evenings this off-season for house-made maki rolls\, fresh sashimi and nigiri\, and fried rice! Savor the vibrant flavors\, share plates with companions\, and discover why Thursday at Harbor Fish Market & Grille just became your new favorite night of the week. Served in addition to their regular dinner menus and available for dine-in or carry-out. The last Sushi Thursday will be on April 23rd.
URL:https://rewind977.com/event/sushi-thursday-3/
CATEGORIES:Local Activities
END:VEVENT
BEGIN:VEVENT
DTSTART;VALUE=DATE:20260425
DTEND;VALUE=DATE:20260426
DTSTAMP:20260419T135407
CREATED:20260312T184752Z
LAST-MODIFIED:20260312T184752Z
UID:16311-1777075200-1777161599@rewind977.com
SUMMARY:Healthy Kids Day
DESCRIPTION:Healthy Kids Day at the Sturgeon Bay Program Center
URL:https://rewind977.com/event/healthy-kids-day/
CATEGORIES:Local Activities
END:VEVENT
BEGIN:VEVENT
DTSTART;TZID=UTC:20260425T093000
DTEND;TZID=UTC:20260425T133000
DTSTAMP:20260419T135407
CREATED:20260409T194156Z
LAST-MODIFIED:20260409T194156Z
UID:16500-1777109400-1777123800@rewind977.com
SUMMARY:9th Annual Every Day Is Earth Day Festival
DESCRIPTION:9:30am – 1:30pm Saturday\, Noon – 5pm Sunday. Kress Pavilion\, Egg Harbor. Two days of free activities\, including a nature inspired family day on Saturday\, with a visit by the Open Door Bird Sanctuary\, interactive booths\, and an artisan leaf hunt. On Sunday\, the festival has an afternoon of talks and workshops by herbalists and foragers Open to all and free to attend. It’s the perfect way to celebrate the planet with your community! Explore event details at everydayisearthdayfest dot org.
URL:https://rewind977.com/event/9th-annual-every-day-is-earth-day-festival/
CATEGORIES:Local Activities
END:VEVENT
BEGIN:VEVENT
DTSTART;TZID=UTC:20260425T100000
DTEND;TZID=UTC:20260425T170000
DTSTAMP:20260419T135407
CREATED:20260417T162449Z
LAST-MODIFIED:20260417T162449Z
UID:16524-1777111200-1777136400@rewind977.com
SUMMARY:8th Annual Barney Fun Run
DESCRIPTION:Doors open at 10am\, 11am start Sister Bay Bowl. Join them for another fun run! There is no online registration\, rather\, simply show up the day of\, have some snacks or a pre-run mimosa\, donate to a local family in need and buy some cool merchandise! This community run offers two routes through the village; 1.84 mile walk or 3.89 mile run\, with participants finishing at the Sister Bay Beach. If you’re brave enough\, you can follow Barney’s tradition of a post-run dip in the bay\, before heading back to the Bowl. Contact the Sister Bay Bowl for more details. Come out and run for a good cause!
URL:https://rewind977.com/event/8th-annual-barney-fun-run/
CATEGORIES:Local Activities
END:VEVENT
BEGIN:VEVENT
DTSTART;TZID=UTC:20260425T100000
DTEND;TZID=UTC:20260425T170000
DTSTAMP:20260419T135407
CREATED:20260417T171008Z
LAST-MODIFIED:20260417T171008Z
UID:16526-1777111200-1777136400@rewind977.com
SUMMARY:Independent Bookstore Day
DESCRIPTION:10am – 5pm Novel Bay Booksellers\, 3rd Avenue\, Sturgeon Bay. Celebrate what makes independent bookstores so special! To honor the occasion\, somewhere hidden on the shelves is a Golden Ticket waiting to be found\, and it unlocks twelve FREE audiobooks! Browse their amazing variety of works\, chase the thrill\, and discover sweet deals\, exclusive discounts\, and fun freebies. Whether you’re a mystery lover\, romance reader\, history buff\, kid or a fan of local authors\, come on in and find your next read during Independent Bookstore Day April 25th at Novel Bay Booksellers in Sturgeon Bay!
URL:https://rewind977.com/event/independent-bookstore-day/
CATEGORIES:Local Activities
END:VEVENT
BEGIN:VEVENT
DTSTART;TZID=UTC:20260426T120000
DTEND;TZID=UTC:20260426T170000
DTSTAMP:20260419T135407
CREATED:20260409T194255Z
LAST-MODIFIED:20260409T194255Z
UID:16502-1777204800-1777222800@rewind977.com
SUMMARY:9th Annual Every Day Is Earth Day Festival
DESCRIPTION:9:30am – 1:30pm Saturday\, Noon – 5pm Sunday. Kress Pavilion\, Egg Harbor. Two days of free activities\, including a nature inspired family day on Saturday\, with a visit by the Open Door Bird Sanctuary\, interactive booths\, and an artisan leaf hunt. On Sunday\, the festival has an afternoon of talks and workshops by herbalists and foragers Open to all and free to attend. It’s the perfect way to celebrate the planet with your community! Explore event details at everydayisearthdayfest dot org.
URL:https://rewind977.com/event/9th-annual-every-day-is-earth-day-festival-2/
CATEGORIES:Local Activities
END:VEVENT
BEGIN:VEVENT
DTSTART;TZID=UTC:20260426T150000
DTEND;TZID=UTC:20260426T150000
DTSTAMP:20260419T135408
CREATED:20260417T181744Z
LAST-MODIFIED:20260417T182045Z
UID:16536-1777215600-1777215600@rewind977.com
SUMMARY:Door County Big Plant Tree Planting
DESCRIPTION:Join us for free public community tree plantings. \n4/26 at 3 PMValmy HomesteadNear Valmy\, near Giesel Creek\, by Black Ash Swamp4887 Highway 57\, Sturgeon Bay\, WI 54235Sign up here \nThank you to all individuals\, businesses\, nonprofits\, and friends for making this tree distribution\, planting\, and educational event possible.
URL:https://rewind977.com/event/door-county-big-plant-tree-planting/
CATEGORIES:Local Activities
END:VEVENT
BEGIN:VEVENT
DTSTART;TZID=UTC:20260428T180000
DTEND;TZID=UTC:20260428T200000
DTSTAMP:20260419T135408
CREATED:20260319T234819Z
LAST-MODIFIED:20260319T234819Z
UID:16394-1777399200-1777406400@rewind977.com
SUMMARY:ATOMIC BINGO TUESDAYS
DESCRIPTION:ATOMIC BINGO TUESDAYS Brygga Plates and Pours/Stone Harbor 6-8PM
URL:https://rewind977.com/event/atomic-bingo-tuesdays-11/
LOCATION:Brygga Plates & Pours @ Stone Harbor in Sturgeon Bay
CATEGORIES:Local Activities
END:VEVENT
BEGIN:VEVENT
DTSTART;TZID=UTC:20260429T170000
DTEND;TZID=UTC:20260429T170000
DTSTAMP:20260419T135408
CREATED:20260319T235027Z
LAST-MODIFIED:20260319T235027Z
UID:16402-1777482000-1777482000@rewind977.com
SUMMARY:Game Night
DESCRIPTION:Starts at 5pm Husby’s\, on the Hill\, Sister Bay. Husby’s will provide decks of cards\, cribbage boards\, Yahtzee\, Shut the Box or bring your own! $1 off all drinks too! Game on!
URL:https://rewind977.com/event/game-night-7/
LOCATION:Husby’s\, on the Hill\, Sister Bay
CATEGORIES:Local Activities
END:VEVENT
BEGIN:VEVENT
DTSTART;VALUE=DATE:20260430
DTEND;VALUE=DATE:20260501
DTSTAMP:20260419T135408
CREATED:20260409T194353Z
LAST-MODIFIED:20260409T194353Z
UID:16504-1777507200-1777593599@rewind977.com
SUMMARY:Argentina Fusion
DESCRIPTION:The last pop-up dinner experience of the off-season at Harbor Fish Market and Grille is on Thursday\, April 30 with an “Argentina Fusion” dinner experience. Discover the history\, traditions\, and stories behind each dish as you explore the passion and spirit behind gaucho culture!  They’re featuring not only a spectacular coursed menu inspired by Argentinian cuisine but also welcoming a special guest speaker who will talk about each uniquely paired Argentinian wine.  Seats are limited\, so reservations are required. Reserve your spot online or call at 920-839-9999.
URL:https://rewind977.com/event/argentina-fusion/
CATEGORIES:Local Activities
END:VEVENT
END:VCALENDAR